BEGIN:VCALENDAR
VERSION:2.0
PRODID:-//wp-events-plugin.com//7.2.3.1//EN
BEGIN:VEVENT
UID:15@marensvenner.dk
DTSTART;TZID=Europe/Copenhagen:20260513T163000
DTEND;TZID=Europe/Copenhagen:20260513T183000
DTSTAMP:20260423T174203Z
URL:https://www.marensvenner.dk/events/kom-og-vaer-med-hvis-du-har-tid-og-
 lyst
SUMMARY:Kom og vær med\, – hvis du har tid og lyst…
DESCRIPTION:Generalforsamling\ni Marens VenneLaug\n\n13. maj 2026\nkl. 16\,
 30 i Bomhuset\nSønderlandsgade 46 i Holstebro\n\nDagsorden ifølge vedtæ
 gterne…..\n\nMedbring selv skammel\, taburet eller klapstol.\nDer er ing
 en stole i Bomhuset …. Kun ståpladser.\n\nAlle er velkommen.
ATTACH;FMTTYPE=image/jpeg:https://www.marensvenner.dk/wp-content/uploads/2
 026/04/Bomhuset-i-Holstebro-0442a533-5c8e-4890-a35c-02fb59dfa0df.jpeg
END:VEVENT
BEGIN:VTIMEZONE
TZID:Europe/Copenhagen
X-LIC-LOCATION:Europe/Copenhagen
BEGIN:DAYLIGHT
DTSTART:20260329T030000
TZOFFSETFROM:+0100
TZOFFSETTO:+0200
TZNAME:CEST
END:DAYLIGHT
END:VTIMEZONE
END:VCALENDAR